BEGIN:VCALENDAR
VERSION:2.0
PRODID:-//wp-events-plugin.com//7.2.3.1//EN
BEGIN:VEVENT
UID:73@rothosen.de
DTSTART:20250516T150000Z
DTEND:20250516T170000Z
DTSTAMP:20250218T202416Z
URL:https://rothosen.de/events/bogensport-2025-05-16/
SUMMARY:Bogensport
DESCRIPTION:Reserviert für Bogensport
CATEGORIES:Bogensport
END:VEVENT
END:VCALENDAR