BEGIN:VCALENDAR
VERSION:2.0
PRODID:-//wp-events-plugin.com//7.2.3.1//EN
BEGIN:VEVENT
UID:24@rothosen.de
DTSTART:20241027T100000Z
DTEND:20241027T120000Z
DTSTAMP:20240520T092006Z
URL:https://rothosen.de/events/beach-oldies-2024-10-27/
SUMMARY:Beach Oldies
DESCRIPTION:
END:VEVENT
END:VCALENDAR