BEGIN:VCALENDAR
VERSION:2.0
PRODID:-//wp-events-plugin.com//7.2.3.1//EN
BEGIN:VEVENT
UID:112@rothosen.de
DTSTART;TZID=Europe/Berlin:20250711T180000
DTEND;TZID=Europe/Berlin:20250711T200000
DTSTAMP:20250709T181448Z
URL:https://rothosen.de/events/alt-herren/
SUMMARY:Alt Herren
DESCRIPTION:
CATEGORIES:Beachplatz
END:VEVENT
BEGIN:VTIMEZONE
TZID:Europe/Berlin
X-LIC-LOCATION:Europe/Berlin
BEGIN:DAYLIGHT
DTSTART:20250330T030000
TZOFFSETFROM:+0100
TZOFFSETTO:+0200
TZNAME:CEST
END:DAYLIGHT
END:VTIMEZONE
END:VCALENDAR